BEGIN:VCALENDAR
VERSION:2.0
PRODID:-//SV Affolterbach 1928 e.V. - ECPv6.15.20//NONSGML v1.0//EN
CALSCALE:GREGORIAN
METHOD:PUBLISH
X-WR-CALNAME:SV Affolterbach 1928 e.V.
X-ORIGINAL-URL:https://sv-affolterbach.de
X-WR-CALDESC:Veranstaltungen für SV Affolterbach 1928 e.V.
REFRESH-INTERVAL;VALUE=DURATION:PT1H
X-Robots-Tag:noindex
X-PUBLISHED-TTL:PT1H
BEGIN:VTIMEZONE
TZID:Europe/Berlin
BEGIN:DAYLIGHT
TZOFFSETFROM:+0100
TZOFFSETTO:+0200
TZNAME:CEST
DTSTART:20230326T010000
END:DAYLIGHT
BEGIN:STANDARD
TZOFFSETFROM:+0200
TZOFFSETTO:+0100
TZNAME:CET
DTSTART:20231029T010000
END:STANDARD
BEGIN:DAYLIGHT
TZOFFSETFROM:+0100
TZOFFSETTO:+0200
TZNAME:CEST
DTSTART:20240331T010000
END:DAYLIGHT
BEGIN:STANDARD
TZOFFSETFROM:+0200
TZOFFSETTO:+0100
TZNAME:CET
DTSTART:20241027T010000
END:STANDARD
BEGIN:DAYLIGHT
TZOFFSETFROM:+0100
TZOFFSETTO:+0200
TZNAME:CEST
DTSTART:20250330T010000
END:DAYLIGHT
BEGIN:STANDARD
TZOFFSETFROM:+0200
TZOFFSETTO:+0100
TZNAME:CET
DTSTART:20251026T010000
END:STANDARD
END:VTIMEZONE
BEGIN:VEVENT
DTSTART;TZID=Europe/Berlin:20241115T200000
DTEND;TZID=Europe/Berlin:20241115T230000
DTSTAMP:20260425T213650
CREATED:20231112T195910Z
LAST-MODIFIED:20241010T190447Z
UID:3421-1731700800-1731711600@sv-affolterbach.de
SUMMARY:Mundstuhl live - Comedy Nacht
DESCRIPTION:  \nDer Förderverein SV Affolterbach präsentiert 2024 das Comedy-Duo „Mundstuhl“ mit dem Programm „Kann Spuren von Nüssen enthalten“ in der Peter-Heckmann-Halle in Affolterbach. \n\n\n25.November 2024 ab 20 Uhr\n\n\n  \nDas beste Comedyduo des Universums holt aus zum nächsten Streich!\nUnd ja! Es wird noch lustiger als jemals zuvor. Wer geglaubt hat\, der Gipfel humoristischen Wahnsinns sei nach 25 Jahren MUNDSTUHL bereits erreicht\, wird mit dem brandneuen Programm KANN SPUREN VON NÜSSEN ENTHALTEN  eines Besseren belehrt. \nSo frisch und abwechslungsreich\, so durchgeknallt und schnell\, als hätten sich die beiden symphatischen Echopreisträger eine Adrenalinspritze ins vegetative Humorzentrum gedrückt. In bester Mundstuhlmanier geben sich auf der Bühne liebgewonnene aber auch nagelneue Charaktere die Klinke in die Hand. \nDer psychopathische Grillschorsch\, der cholerische Andi\, die drucklosen Friedensaktivisten Malte und Torben  von No Pressure und als Special Guest Der Dschieses\, der auf Geheiß seines Vaters wieder auf der Erde weilt – alle Mundstuhl-Figuren haben schwer einen an der Klatsche und sind als ins Absurde überdrehte Karikaturen angelegt. \nSo auch die ostdeutschen Hartz-IV-Mütter Peggy und Sandy\,  die schlechtesten Zauberer der Welt Sickroy und Fried und natürlich Dragan und Alder\, die Erfinder der Kanakcomedy\, die den hessischen Kultkomikern vor einem Vierteljahrhundert den Durchbruch bescherten. \nImmer wieder leuchten satirische Spitzen auf\, meist aber geht es um die pure Lust am Blödsinn\, die mit ansteckender Spielfreude präsentiert wird. \nIn Zeiten von stets erhobenen Zeigefingern\, Gendersternchen und Political Correctness machen MUNDSTUHL weiterhin Späße über Alles und Jeden und das Beste ist: Man darf und muss herzhaft darüber lachen. \nDie beiden Comedians und Podcaster Lars Niedereichholz und Ande Werner gelten als das erfolgreichste und wandelbarste Comedy-Doppel Deutschlands und erreichen in ihrem neuen Programm eine geradezu irrwitzige Pointendichte. \nAber Achtung! Dieses Programm  KANN SPUREN VON NÜSSEN ENTHALTEN. \n  \nPressemeinungen: \n\n„Politisch völlig inkorrekt und zum Brüllen komisch.“ Westfälische Allgemeine\n„MUNDSTUHL sind einmalig!“ BZ\n„Riesenapplaus unter Lachtränen!“ BILD Zeitung\n„Die AC/DC der Comedy! Zum Kaputtlachen!“ SZ\n\n  \nTickets\n\nTicketmail: ticketing@sv-affolterbach.de\nVorverkaufsstellen: Sportlerklause Affolterbach; BTR-Office Wald-Michelbach\, Reservix-Onlne*\nVorverkaufshotline: 06207 / 20 31 26 8\nPreis: VVK 29€ / Abendkasse 35€\n\n*Bitte beachte\, dass das ordern der Karten über die Plattform „Reservix“ mit Mehrkosten verbunden ist.
URL:https://sv-affolterbach.de/event/mundstuhl-live-comedy-nacht/
LOCATION:Peter-Heckmann-Halle\, Bahnstraße 30\, Affolterbach
CATEGORIES:Comedy
ATTACH;FMTTYPE=image/png:https://sv-affolterbach.de/wp-content/uploads/2023/11/Mundstuhl-2024-in-Affolterbach.png
END:VEVENT
END:VCALENDAR